BEGIN:VCALENDAR
VERSION:2.0
PRODID:-//Alarm Will Sound - ECPv4.6.13//NONSGML v1.0//EN
CALSCALE:GREGORIAN
METHOD:PUBLISH
X-WR-CALNAME:Alarm Will Sound
X-ORIGINAL-URL:https://www.alarmwillsound.com
X-WR-CALDESC:Events for Alarm Will Sound
BEGIN:VEVENT
DTSTART;TZID=UTC-5:20160625T150000
DTEND;TZID=UTC-5:20160625T163000
DTSTAMP:20210524T151648
CREATED:20171126T181256Z
LAST-MODIFIED:20171126T181256Z
UID:1362-1466866800-1466872200@www.alarmwillsound.com
SUMMARY:Cleveland\, OH
DESCRIPTION:John Luther Adams\, Ten Thousand Birds \n
URL:https://www.alarmwillsound.com/event/cleveland-oh/
LOCATION:11150 East Blvd\, Cleveland\, OH\, 44106\, United States
END:VEVENT
END:VCALENDAR