BEGIN:VCALENDAR
VERSION:2.0
PRODID:-//Alarm Will Sound - ECPv4.6.13//NONSGML v1.0//EN
CALSCALE:GREGORIAN
METHOD:PUBLISH
X-WR-CALNAME:Alarm Will Sound
X-ORIGINAL-URL:https://www.alarmwillsound.com
X-WR-CALDESC:Events for Alarm Will Sound
BEGIN:VEVENT
DTSTART;TZID=UTC-6:20160213T193000
DTEND;TZID=UTC-6:20160213T210000
DTSTAMP:20210524T233421
CREATED:20171126T183540Z
LAST-MODIFIED:20171126T183540Z
UID:1381-1455391800-1455397200@www.alarmwillsound.com
SUMMARY:Columbia\, MO
DESCRIPTION:This Music Should Not Exist. \nGyörgy Ligeti\, Piano Concerto;\nLigeti\, Chamber Concerto;\nLigeti\, Continuum;\nLigeti\, Poème symphonique;\nLigeti\, Haj\, ífjúság!;\nCharlie Chaplin\, Excerpt from Modern Times (arr. Courtney Orlando) \n
URL:https://www.alarmwillsound.com/event/columbia-mo-7/
LOCATION:203 S 9th St\, Columbia\, MO\, 65211\, United States
END:VEVENT
END:VCALENDAR