BEGIN:VCALENDAR
VERSION:2.0
PRODID:-//Alarm Will Sound - ECPv4.6.13//NONSGML v1.0//EN
CALSCALE:GREGORIAN
METHOD:PUBLISH
X-WR-CALNAME:Alarm Will Sound
X-ORIGINAL-URL:https://www.alarmwillsound.com
X-WR-CALDESC:Events for Alarm Will Sound
BEGIN:VEVENT
DTSTART;TZID=UTC-5:20151022T200000
DTEND;TZID=UTC-5:20151022T210000
DTSTAMP:20210524T233653
CREATED:20171126T184113Z
LAST-MODIFIED:20171126T184113Z
UID:1387-1445544000-1445547600@www.alarmwillsound.com
SUMMARY:New York\, NY
DESCRIPTION:SONiC Festival. \nTexu Kim\, Bounce;\nCharlie Piper\, Zoetrope;\nJeremy Pordgursky\, MINDJOB;\nKate Soper\, excerpts from I Was Here I Was I \n
URL:https://www.alarmwillsound.com/event/new-york-ny-5/
LOCATION:129 W 67th Street\, New York\, NY\, 10036\, United States
END:VEVENT
END:VCALENDAR