BEGIN:VCALENDAR
VERSION:2.0
PRODID:-//Alarm Will Sound - ECPv4.6.13//NONSGML v1.0//EN
CALSCALE:GREGORIAN
METHOD:PUBLISH
X-WR-CALNAME:Alarm Will Sound
X-ORIGINAL-URL:https://www.alarmwillsound.com
X-WR-CALDESC:Events for Alarm Will Sound
BEGIN:VEVENT
DTSTART;TZID=UTC-6:20160212T200000
DTEND;TZID=UTC-6:20160212T210000
DTSTAMP:20210524T233714
CREATED:20171126T183701Z
LAST-MODIFIED:20171126T183701Z
UID:1383-1455307200-1455310800@www.alarmwillsound.com
SUMMARY:St. Louis\, MO
DESCRIPTION:This Music Should Not Exist. \nGyörgy Ligeti\, Piano Concerto;\nLigeti\, Chamber Concerto;\nLigeti\, Continuum;\nLigeti\, Poème symphonique;\nLigeti\, Haj\, ífjúság!;\nCharlie Chaplin\, Excerpt from Modern Times (arr. Courtney Orlando) \n
URL:https://www.alarmwillsound.com/event/st-louis-mo-10/
LOCATION:3648 Washington Boulevard\, St. Louis\, MO\, United States
END:VEVENT
END:VCALENDAR