BEGIN:VCALENDAR
VERSION:2.0
PRODID:-//Alarm Will Sound - ECPv4.6.13//NONSGML v1.0//EN
CALSCALE:GREGORIAN
METHOD:PUBLISH
X-WR-CALNAME:Alarm Will Sound
X-ORIGINAL-URL:https://www.alarmwillsound.com
X-WR-CALDESC:Events for Alarm Will Sound
BEGIN:VEVENT
DTSTART;TZID=UTC-5:20160421T190000
DTEND;TZID=UTC-5:20160421T200000
DTSTAMP:20210524T233143
CREATED:20171126T100039Z
LAST-MODIFIED:20171126T100039Z
UID:1343-1461265200-1461268800@www.alarmwillsound.com
SUMMARY:Toledo\, OH
DESCRIPTION:John Luther Adams\, Ten Thousand Birds \n
URL:https://www.alarmwillsound.com/event/toledo-oh/
LOCATION:2445 Monroe St\, Toledo\, OH\, 43620\, United States
END:VEVENT
END:VCALENDAR